BEGIN:VCALENDAR
VERSION:2.0
PRODID:-//The Institute of Advanced Thinking - ECPv6.9.1//NONSGML v1.0//EN
CALSCALE:GREGORIAN
METHOD:PUBLISH
X-WR-CALNAME:The Institute of Advanced Thinking
X-ORIGINAL-URL:https://instituteofadvancedthinking.net
X-WR-CALDESC:Events for The Institute of Advanced Thinking
REFRESH-INTERVAL;VALUE=DURATION:PT1H
X-Robots-Tag:noindex
X-PUBLISHED-TTL:PT1H
BEGIN:VTIMEZONE
TZID:UTC
BEGIN:STANDARD
TZOFFSETFROM:+0000
TZOFFSETTO:+0000
TZNAME:UTC
DTSTART:20210101T000000
END:STANDARD
END:VTIMEZONE
BEGIN:VEVENT
DTSTART;TZID=UTC:20211217T220000
DTEND;TZID=UTC:20211218T040000
DTSTAMP:20260425T221642
CREATED:20211130T182912Z
LAST-MODIFIED:20211217T034225Z
UID:3196-1639778400-1639800000@instituteofadvancedthinking.net
SUMMARY:Dust-E-1 & Gabriola *ALL NIGHT*
DESCRIPTION:CANCELLED \nwe’ve decided to cancel this weekend’s dance at The Waiting Room due to the developing Omicron situation in London. All ticket holders will be refunded. We know this is a huge inconvenience and a tough time overall but we believe it’s the right call to make sure everyone stays safe and gets to spend time with their friends & families over Christmas. Potentially putting everyone into harms way and another Christmas alone is something we can’t do on good conscious. we will try again next year when things settle down. \nDust-E-1 [Dustworld / Montreal CA] \nGabriola [Magicwire NTS / London UK] \nALL NIGHT LONG \nDECEMBER 17th \n*5IVE POUNDS* motd \nThe Waiting Room N16 0LH LONDON \nget up to SPEED
URL:https://instituteofadvancedthinking.net/event/up-to-speed-with-duste1-and-gabriola/
END:VEVENT
END:VCALENDAR